BEGIN:VCALENDAR
VERSION:2.0
PRODID:-//beautiful thai - ECPv6.15.13//NONSGML v1.0//EN
CALSCALE:GREGORIAN
METHOD:PUBLISH
X-WR-CALNAME:beautiful thai
X-ORIGINAL-URL:https://baanrak.de
X-WR-CALDESC:Veranstaltungen für beautiful thai
REFRESH-INTERVAL;VALUE=DURATION:PT1H
X-Robots-Tag:noindex
X-PUBLISHED-TTL:PT1H
BEGIN:VTIMEZONE
TZID:UTC
BEGIN:STANDARD
TZOFFSETFROM:+0000
TZOFFSETTO:+0000
TZNAME:UTC
DTSTART:20240101T000000
END:STANDARD
END:VTIMEZONE
BEGIN:VEVENT
DTSTART;VALUE=DATE:20251026
DTEND;VALUE=DATE:20251027
DTSTAMP:20260420T093417
CREATED:20250731T164627Z
LAST-MODIFIED:20250731T164627Z
UID:13838-1761436800-1761523199@baanrak.de
SUMMARY:ทำบุญทอดกฐิน / die Toth-katin Zeremonie
DESCRIPTION:ทำบุญทอดกฐิน / die Toth-katin Zeremonie \nBeginn etwa 10:30 Uhr bis etwa 16:00 Uhr \nNicht am Wat Dhammavihara; der Veranstaltungsort ist …….. \n\n				 Post Views: 1.168
URL:https://baanrak.de/event/%e0%b8%97%e0%b8%b3%e0%b8%9a%e0%b8%b8%e0%b8%8d%e0%b8%97%e0%b8%ad%e0%b8%94%e0%b8%81%e0%b8%90%e0%b8%b4%e0%b8%99-die-toth-katin-zeremonie
CATEGORIES:Buddhist Event,Temple Hannover
END:VEVENT
BEGIN:VEVENT
DTSTART;VALUE=DATE:20251012
DTEND;VALUE=DATE:20251013
DTSTAMP:20260420T093417
CREATED:20250731T164032Z
LAST-MODIFIED:20250731T164032Z
UID:13836-1760227200-1760313599@baanrak.de
SUMMARY:ทำบุญวันออกพรรษา ende d. buddh. Fastenzeit
DESCRIPTION:ทำบุญวันออกพรรษา ende d. buddhistischen Fastenzeit \nBeginn etwa 10:30 Uhr  bis etwa 15:00 Uhr \n\n				 Post Views: 1.168
URL:https://baanrak.de/event/%e0%b8%97%e0%b8%b3%e0%b8%9a%e0%b8%b8%e0%b8%8d%e0%b8%a7%e0%b8%b1%e0%b8%99%e0%b8%ad%e0%b8%ad%e0%b8%81%e0%b8%9e%e0%b8%a3%e0%b8%a3%e0%b8%a9%e0%b8%b2-ende-d-buddh-fastenzeit
CATEGORIES:Buddhist Event,Temple Hannover
ATTACH;FMTTYPE=image/jpeg:https://baanrak.de/wp-content/uploads/2025/07/33260684948_c568ec1411_o-scaled-1.jpg
END:VEVENT
BEGIN:VEVENT
DTSTART;VALUE=DATE:20250914
DTEND;VALUE=DATE:20250915
DTSTAMP:20260420T093417
CREATED:20250731T163505Z
LAST-MODIFIED:20250804T172722Z
UID:13834-1757808000-1757894399@baanrak.de
SUMMARY:ทำบุญวันสารท
DESCRIPTION:ทำบุญวันสารท \nThai Gedenktag für die Verstorbenen \nBeginn etwa 10:00 Uhr bis etwa 15:00 Uhr \n\n				 Post Views: 1.168
URL:https://baanrak.de/event/%e0%b8%97%e0%b8%b3%e0%b8%9a%e0%b8%b8%e0%b8%8d%e0%b8%a7%e0%b8%b1%e0%b8%99%e0%b8%aa%e0%b8%b2%e0%b8%a3%e0%b8%97
CATEGORIES:Temple Hannover,Thai Kultur
END:VEVENT
BEGIN:VEVENT
DTSTART;VALUE=DATE:20250823
DTEND;VALUE=DATE:20250825
DTSTAMP:20260420T093417
CREATED:20250725T185253Z
LAST-MODIFIED:20250727T092714Z
UID:13667-1755907200-1756079999@baanrak.de
SUMMARY:Thai Event
DESCRIPTION:thai event \nSamstag 23.08.2025  10 Uhr bis 21 Uhr \nSonntag 24.08.2025  10 Uhr bis 18 Uhr \nAm Fahrenplatz \n31710 Buchholz \nAm Jahrtausendblick / Rinteln \n\n				 Post Views: 1.168
URL:https://baanrak.de/event/test-event
LOCATION:31710 Buchholz\, Am Fahrenplatz\, Buchholz / Rinteln\, niedersachsen\, 31710
CATEGORIES:Thai Food Markt
ATTACH;FMTTYPE=image/jpeg:https://baanrak.de/wp-content/uploads/2025/07/termin-august-25_2-e1753470074703.jpg
END:VEVENT
BEGIN:VEVENT
DTSTART;VALUE=DATE:20250810
DTEND;VALUE=DATE:20250811
DTSTAMP:20260420T093417
CREATED:20250731T162756Z
LAST-MODIFIED:20250731T162935Z
UID:13830-1754784000-1754870399@baanrak.de
SUMMARY:ทำบุญวันแม่ thailändischer Muttertag
DESCRIPTION:ทำบุญวันแม่ thailändischer Muttertag \, Königin Sirikit \nBeginn etwa 10:30 Uhr  bis etwa 15:00 Uhr \n\n				 Post Views: 1.168
URL:https://baanrak.de/event/%e0%b8%97%e0%b8%b3%e0%b8%9a%e0%b8%b8%e0%b8%8d%e0%b8%a7%e0%b8%b1%e0%b8%99%e0%b9%81%e0%b8%a1%e0%b9%88-thailaendischer-muttertag
CATEGORIES:Thai Kultur
END:VEVENT
END:VCALENDAR